BEGIN:VCALENDAR
VERSION:2.0
PRODID:-//TownLift, Park City News - ECPv6.15.20//NONSGML v1.0//EN
CALSCALE:GREGORIAN
METHOD:PUBLISH
X-WR-CALNAME:TownLift, Park City News
X-ORIGINAL-URL:https://townlift.com
X-WR-CALDESC:Events for TownLift, Park City News
REFRESH-INTERVAL;VALUE=DURATION:PT1H
X-Robots-Tag:noindex
X-PUBLISHED-TTL:PT1H
BEGIN:VTIMEZONE
TZID:America/Denver
BEGIN:DAYLIGHT
TZOFFSETFROM:-0700
TZOFFSETTO:-0600
TZNAME:MDT
DTSTART:20250309T090000
END:DAYLIGHT
BEGIN:STANDARD
TZOFFSETFROM:-0600
TZOFFSETTO:-0700
TZNAME:MST
DTSTART:20251102T080000
END:STANDARD
BEGIN:DAYLIGHT
TZOFFSETFROM:-0700
TZOFFSETTO:-0600
TZNAME:MDT
DTSTART:20260308T090000
END:DAYLIGHT
BEGIN:STANDARD
TZOFFSETFROM:-0600
TZOFFSETTO:-0700
TZNAME:MST
DTSTART:20261101T080000
END:STANDARD
BEGIN:DAYLIGHT
TZOFFSETFROM:-0700
TZOFFSETTO:-0600
TZNAME:MDT
DTSTART:20270314T090000
END:DAYLIGHT
BEGIN:STANDARD
TZOFFSETFROM:-0600
TZOFFSETTO:-0700
TZNAME:MST
DTSTART:20271107T080000
END:STANDARD
END:VTIMEZONE
BEGIN:VEVENT
DTSTART;TZID=America/Denver:20260422T170000
DTEND;TZID=America/Denver:20260422T180000
DTSTAMP:20260421T211658
CREATED:20260109T181317Z
LAST-MODIFIED:20260109T181317Z
UID:10003692-1776877200-1776880800@townlift.com
SUMMARY:Ute History Revealed given by Forrest Cuch
DESCRIPTION:Park City Museum will host a lecture called Ute History Revealed given by Forrest Cuch on April 22\, 2026 from 5-6 p.m. held at the Education and Collections Center located at 2079 Sidewinder Drive. \nForrest S. Cuch is an enrolled member of the Ute Indian Tribe. He was born and raised on the Uintah and Ouray Ute Indian Reservation in northeastern Utah. He has a Bachelor of Arts Degree in the Behavioral Sciences from Westminster College. Forrest has held many challenging jobs during his 38-year career having worked for several Indian tribes in various capacities to serving as director for Utah Division of Indian Affairs. He published\, A History of Utah’s American Indians\, Utah State University Press\, 2000. Forrest played a key role in the PBS/KUED sponsored curriculum project entitled; We Shall Remain\, which features a video series of the histories of the Utah tribes with accompanying materials. Currently retired\, he provides lectures on healing trauma\, Native American History\, and conservation. In 2022\, he was appointed to Jane Goodall’s Legacy Foundation. He also recently co-authored a book entitled\, A Native Way of Giving\, 2022\, Episcopal Church Publishing. \nMore information can be found at www.parkcityhistory.org. \n	Similar Reads On TownLift\n\n\n\n	Similar Reads On TownLift
URL:https://townlift.com/event/ute-history-revealed-given-by-forrest-cuch/
LOCATION:Park City Museum Edcuation and Collections Center\, 2079 Sidewinder Drive\, Park City\, UT\, 84060\, United States
CATEGORIES:Education,Non-Profit
ATTACH;FMTTYPE=image/jpeg:https://townlift.com/wp-content/uploads/2023/03/IMG_1439-scaled-e1678235255893.jpeg
GEO:40.663901;-111.4948344
X-APPLE-STRUCTURED-LOCATION;VALUE=URI;X-ADDRESS=Park City Museum Edcuation and Collections Center 2079 Sidewinder Drive Park City UT 84060 United States;X-APPLE-RADIUS=500;X-TITLE=2079 Sidewinder Drive:geo:-111.4948344,40.663901
END:VEVENT
BEGIN:VEVENT
DTSTART;TZID=America/Denver:20260520T170000
DTEND;TZID=America/Denver:20260520T180000
DTSTAMP:20260421T211658
CREATED:20260109T203449Z
LAST-MODIFIED:20260109T203449Z
UID:10003698-1779296400-1779300000@townlift.com
SUMMARY:Rooted in Tradition: Native American Food Sovereignty by Darren Parry
DESCRIPTION:Park City Museum will host a lecture called Rooted in Tradition: Native American Food Sovereignty given by Darren Parry on Wednesday\, May 20\, from 5-6 p.m.\, which will be held at the Park City Museum Education and Collections Center located at 2079 Sidewinder Drive.  More information can be found at www.parkcityhistory.org. \nDarren Parry is the former Chairman of the Northwestern Band of the Shoshone Nation. Darren serves on the Board of Directors for Utah Humanities and the PBS\nUtah. He attended the University of Utah and Weber State University and received his Bachelor’s Degree in Education. In 2024\, he received an Honorary PhD in Education from Utah State University. Darren is the author of “The Bear River Massacre\, A Shoshone History” and teaches in the Environmental Humanities department at the University of Utah. He lectures around the country on Native American issues surrounding history and Indigenous views related to sustainability. He recently gave a lecture at the University of Copenhagen and spoke about Indigenous views to Climate and Environment. His passions in life are his wife Melody\, 7 children and 17 grandchildren. His other passion is his Tribal family. He wants to make sure that those who have gone before him are not forgotten. \n\n	Similar Reads On TownLift\n\n\n	Similar Reads On TownLift
URL:https://townlift.com/event/rooted-in-tradition-native-american-food-sovereignty-by-darren-parry/
LOCATION:Park City Museum Edcuation and Collections Center\, 2079 Sidewinder Drive\, Park City\, UT\, 84060\, United States
CATEGORIES:Education,Non-Profit
ATTACH;FMTTYPE=image/jpeg:https://townlift.com/wp-content/uploads/2023/03/IMG_1439-scaled-e1678235255893.jpeg
GEO:40.663901;-111.4948344
X-APPLE-STRUCTURED-LOCATION;VALUE=URI;X-ADDRESS=Park City Museum Edcuation and Collections Center 2079 Sidewinder Drive Park City UT 84060 United States;X-APPLE-RADIUS=500;X-TITLE=2079 Sidewinder Drive:geo:-111.4948344,40.663901
END:VEVENT
END:VCALENDAR